BEGIN:VCALENDAR
VERSION:2.0
PRODID:-//Nurture Your Wellbeing - ECPv6.15.20//NONSGML v1.0//EN
CALSCALE:GREGORIAN
METHOD:PUBLISH
X-WR-CALNAME:Nurture Your Wellbeing
X-ORIGINAL-URL:https://www.nurtureyourwellbeing.co.uk
X-WR-CALDESC:Events for Nurture Your Wellbeing
REFRESH-INTERVAL;VALUE=DURATION:PT1H
X-Robots-Tag:noindex
X-PUBLISHED-TTL:PT1H
BEGIN:VTIMEZONE
TZID:Europe/London
BEGIN:DAYLIGHT
TZOFFSETFROM:+0000
TZOFFSETTO:+0100
TZNAME:BST
DTSTART:20240331T010000
END:DAYLIGHT
BEGIN:STANDARD
TZOFFSETFROM:+0100
TZOFFSETTO:+0000
TZNAME:GMT
DTSTART:20241027T010000
END:STANDARD
BEGIN:DAYLIGHT
TZOFFSETFROM:+0000
TZOFFSETTO:+0100
TZNAME:BST
DTSTART:20250330T010000
END:DAYLIGHT
BEGIN:STANDARD
TZOFFSETFROM:+0100
TZOFFSETTO:+0000
TZNAME:GMT
DTSTART:20251026T010000
END:STANDARD
BEGIN:DAYLIGHT
TZOFFSETFROM:+0000
TZOFFSETTO:+0100
TZNAME:BST
DTSTART:20260329T010000
END:DAYLIGHT
BEGIN:STANDARD
TZOFFSETFROM:+0100
TZOFFSETTO:+0000
TZNAME:GMT
DTSTART:20261025T010000
END:STANDARD
END:VTIMEZONE
BEGIN:VEVENT
DTSTART;TZID=Europe/London:20251004T093000
DTEND;TZID=Europe/London:20251004T180000
DTSTAMP:20260419T173319
CREATED:20250929T234857Z
LAST-MODIFIED:20250929T235131Z
UID:489-1759570200-1759600800@www.nurtureyourwellbeing.co.uk
SUMMARY:PauseLive - Sound Bath Meditation
DESCRIPTION:Sound Bath Meditation: Relax\, Recharge\, Renew\nFacilitated by Angie Fernandes from Nurture Your Wellbeing \nStep away from the demands of daily life and surrender to the healing power of sound. Join us at PauseLive for this deeply transformative sound bath meditation that offers you a sacred space to completely unwind\, reset your nervous system\, and reconnect with your inner peace. \nYour Journey of Renewal:\n🎵 Immersive Sound Healing – Allow the gentle waves of crystal bowls\, chimes\, and therapeutic instruments to wash over you\, creating a cocoon of tranquility \n🧘‍♀️ Deep Relaxation – Experience profound rest as soothing tones and vibrations guide you into a meditative state deeper than sleep \n💆‍♀️ Stress Relief – Feel tension melt away as the healing frequencies work to calm your mind and soothe your nervous system \n🌸 Menopausal Support – Find natural relief from menopausal symptoms through the therapeutic benefits of sound healing\, helping to balance hormones and ease discomfort \n⚖️ Restored Balance – Leave feeling refreshed\, centred\, and energetically aligned\, with a renewed sense of clarity and wellbeing \nMake It a Full Day of Wellness at PauseLive!\nYour Sound Bath is just one of many transformative experiences available throughout the day in our Experience Hub: \n🏋️‍♀️ Power Through the Pause with Strength Training – Build strength and confidence with Jo Adams \n😄 Joyology 101 – Discover the art of feeling good with comedian and Joyologist Donna Easton \n📝 Pause Pen Power: Journaling – Process emotions and track symptoms with menopause coach Sophia Cleverly \n🧘‍♀️ Pause & Flow: Yoga for Menopause – Gentle movement and breathwork with Libby Stevenson \n💪 Boxing: Unleash Your Power – Build strength and confidence with Kate McLaren \n🌳 Rooted in Calm: Tree of Life Meditation – Transformative workshop integrating neuroscience and psychology \n🥊 Core Truths: Pelvic Floor Power – Essential insights with Kelly Hollands \n🎉 Danceathon – Move\, laugh\, and feel good with Dani Binnington \n🌬️ Menopause Breathwork – Balance and restore with Kerry Waters \nAbout Your Facilitator:\nAngie Fernandes from Nurture Your Wellbeing brings her expertise in holistic wellness and sound healing to create a safe\, nurturing environment where true healing can unfold. \n🎫 Booking: Available here\nPlease wear comfortable clothing and bring a water bottle. All equipment provided.\nReady to give yourself the gift of deep relaxation and renewal as part of a full day celebrating women’s wellness? Book your PauseLive tickets today and experience the transformative power of sound healing alongside incredible wellness experiences.
URL:https://www.nurtureyourwellbeing.co.uk/event/pauselive-sound-bath-meditation/
LOCATION:Grand Connaught Rooms\, 61-65 Great Queen St\,\, London\, WC2B 5DA\, United Kingdom
CATEGORIES:Annual Event
ATTACH;FMTTYPE=image/jpeg:https://www.nurtureyourwellbeing.co.uk/wp-content/uploads/2025/09/pause-Live.jpg
ORGANIZER;CN="PauseLive":MAILTO:Info@mbodymedia.co.uk
END:VEVENT
END:VCALENDAR